BEGIN:VCALENDAR
VERSION:2.0
PRODID:-//Tukios.com/
BEGIN:VEVENT
UID:fea22fd8-bdb5-4010-8032-4847cc290a3f@www.maxwellhelt.com
DTSTAMP:20260422T232348Z
DTSTART:20260516T160000Z
DTEND:20260516T170000Z
SUMMARY:Visitation
DESCRIPTION:
URL:https://www.maxwellhelt.com/obituaries/patricia-campell
LOCATION: 127 7th Street  Renovo PA 17764
GEO:41.327034;-77.752113
END:VEVENT
END:VCALENDAR