BEGIN:VCALENDAR
VERSION:2.0
PRODID:-//Tukios.com/
BEGIN:VEVENT
UID:4539aafa-0930-4f40-8779-04b0ebcbabf8@www.maxwellhelt.com
DTSTAMP:20260422T232516Z
DTSTART:20260516T170000Z
DTEND:20260516T180000Z
SUMMARY:Memorial Service
DESCRIPTION:
URL:https://www.maxwellhelt.com/obituaries/patricia-campell
LOCATION: 127 7th Street  Renovo PA 17764
GEO:41.327034;-77.752113
END:VEVENT
END:VCALENDAR